BEGIN:VCALENDAR
VERSION:2.0
PRODID:-//eventon.com NONSGML v1.0//EN
CALSCALE:GREGORIAN
METHOD:PUBLISH
BEGIN:VEVENT
UID:69eb86385b33c
DTSTAMP:20260424T170320
DTSTART:20210430
DTEND:20210501
TZID:Europe/Paris
LOCATION:
SUMMARY:Concours polytech
DESCRIPTION:1 concours permettant d&rsquo;acceder à 34 école d&rsquo;ingénieurs\,  ce concours s&rsquo;adresse à nos étudiants de la classe preparatoire aux grandes école Lien du concours: https://www.geipi-polytech.org/\nhttps://www.lyc-turgot.ac-limoges.fr/events/concours-polytech/
URL:https://www.lyc-turgot.ac-limoges.fr/events/concours-polytech/
END:VEVENT
END:VCALENDAR